BEGIN:VCALENDAR
VERSION:2.0
PRODID:20260425T071540@https://riotheatre.ca?barker_action=event-listing-ic
 al&event_listing_id=52843
X-WR-CALNAME: Event Listings
BEGIN:VEVENT
UID:https://riotheatre.ca/barker_event_listing/52843/
DTSTART;TZID=America/Vancouver:20260514T211500
SEQUENCE:0
TRANSP:OPAQUE
DTEND;TZID=America/Vancouver:20260514T211500
URL:https://riotheatre.ca/movie/shinjuku-boys/
SUMMARY:Shinjuku Boys
CLASS:PUBLIC
DESCRIPTION:This remarkable documentary offers rich insight into gender and
  sexuality in Japan via a candid portrait of Kazuki\, Tatsu\, and Gaish\, 
 three trans masc hosts working at the New Marilyn Club in Tokyo’s bustli
 ng Shinjuku district. As the film follows them at home and on the job\, al
 l three…
DTSTAMP:20260425T141540Z
LAST-MODIFIED:20260424T170012Z
END:VEVENT
END:VCALENDAR