BEGIN:VCALENDAR
VERSION:2.0
PRODID:20260425T070503@https://riotheatre.ca?barker_action=event-listing-ic
 al&event_listing_id=52836
X-WR-CALNAME: Event Listings
BEGIN:VEVENT
UID:https://riotheatre.ca/barker_event_listing/52836/
DTSTART;TZID=America/Vancouver:20260525T183000
SEQUENCE:0
TRANSP:OPAQUE
DTEND;TZID=America/Vancouver:20260525T183000
URL:https://riotheatre.ca/movie/beneath-crimson-sails/
SUMMARY:Beneath Crimson Sails
CLASS:PUBLIC
DESCRIPTION:Ahoy\, rogues and rascals alike! Set sail for a night unlike an
 y other—the first-ever pirate-themed vertical micro-drama hits the big s
 creen… in the first full theatrical screening of a vertical series in Va
 ncouver history. Join us at the Rio Theatre on Monday\, May 25 for an unfo
 rgettable pirate spectacle. Beneath…
DTSTAMP:20260425T140503Z
LAST-MODIFIED:20260425T031529Z
END:VEVENT
END:VCALENDAR