BEGIN:VCALENDAR
VERSION:2.0
PRODID:20260423T005156@https://riotheatre.ca?barker_action=event-listing-ic
 al&event_listing_id=52825
X-WR-CALNAME: Event Listings
BEGIN:VEVENT
UID:https://riotheatre.ca/barker_event_listing/52825/
DTSTART;TZID=America/Vancouver:20260526T190000
SEQUENCE:0
TRANSP:OPAQUE
DTEND;TZID=America/Vancouver:20260526T190000
URL:https://riotheatre.ca/movie/american-troll-premiere-live-show/
SUMMARY:American Troll (Premiere + Live Show)
CLASS:PUBLIC
DESCRIPTION:Join us at the Rio Theatre for the premiere of award winning do
 cumentarian\, Saturnin’s\, 4th feature film\, American Troll. Stay in yo
 ur seats for a live (sure to be controversial) comedy show from four funny
  fellas\, Brett Forte\, Sergei Putinski\, Uncle Hack & Uncle Lazer. One ni
 ght only!!! American Troll…
DTSTAMP:20260423T075156Z
LAST-MODIFIED:20260422T113944Z
END:VEVENT
END:VCALENDAR