BEGIN:VCALENDAR
VERSION:2.0
PRODID:20260422T152855@https://riotheatre.ca?barker_action=event-listing-ic
 al&event_listing_id=52824
X-WR-CALNAME: Event Listings
BEGIN:VEVENT
UID:https://riotheatre.ca/barker_event_listing/52824/
DTSTART;TZID=America/Vancouver:20260523T210000
SEQUENCE:0
TRANSP:OPAQUE
DTEND;TZID=America/Vancouver:20260523T210000
URL:https://riotheatre.ca/event/the-rio-theatre-burlesque-and-variety-show-
 may-edition/
SUMMARY:The Rio Theatre Burlesque & Variety Show – May Edition
CLASS:PUBLIC
DESCRIPTION:A copious cavalcade of top notch talent and captivating cabare
 t await at The Rio Theatre Burlesque & Variety Show on Saturday\, May 2
 3! Local luminary April O’Peel has curated a show full of wonder sure to
  dazzle and delight our fun loving audience! The theme is NO THEME! That
 ’s right! These talented…
DTSTAMP:20260422T222855Z
LAST-MODIFIED:20260422T121055Z
END:VEVENT
END:VCALENDAR