BEGIN:VCALENDAR
VERSION:2.0
PRODID:20260423T005119@https://riotheatre.ca?barker_action=event-listing-ic
 al&event_listing_id=52820
X-WR-CALNAME: Event Listings
BEGIN:VEVENT
UID:https://riotheatre.ca/barker_event_listing/52820/
DTSTART;TZID=America/Vancouver:20260508T233000
SEQUENCE:0
TRANSP:OPAQUE
DTEND;TZID=America/Vancouver:20260508T233000
URL:https://riotheatre.ca/movie/barb-wire-30th-anniversary-screening/
SUMMARY:Barb Wire (30th Anniversary Screening)
CLASS:PUBLIC
DESCRIPTION:“Don’t call me Babe!” The Rio Theatre’s Friday Late Nig
 ht Movie series continues of May 8 with a 30th Anniversary screening of on
 e of the campiest films to ever come out of the 90’s\,  BARB WIRE. Cana
 dian Pamela Anderson stars in this retro-glam\, weirdly prescient dystopia
 n odyssey (set…
DTSTAMP:20260423T075119Z
LAST-MODIFIED:20260422T115542Z
END:VEVENT
END:VCALENDAR