BEGIN:VCALENDAR
VERSION:2.0
PRODID:20260423T005119@https://riotheatre.ca?barker_action=event-listing-ic
 al&event_listing_id=52809
X-WR-CALNAME: Event Listings
BEGIN:VEVENT
UID:https://riotheatre.ca/barker_event_listing/52809/
DTSTART;TZID=America/Vancouver:20260515T230000
SEQUENCE:0
TRANSP:OPAQUE
DTEND;TZID=America/Vancouver:20260515T230000
URL:https://riotheatre.ca/movie/zombieland/
SUMMARY:Zombieland
CLASS:PUBLIC
DESCRIPTION:Nerdy college student Columbus has survived the plague that has
  turned mankind into flesh-devouring zombies because he’s scared of just
  about everything. Gun-toting\, Twinkie-loving Tallahassee has no fears. T
 ogether\, they are about to stare down their most horrifying challenge yet
 : each other’s company. ZOMBIELAND is a double-hitting\, head-smashing c
 omedy –…
DTSTAMP:20260423T075119Z
LAST-MODIFIED:20260422T113548Z
END:VEVENT
END:VCALENDAR