BEGIN:VCALENDAR
VERSION:2.0
PRODID:20260422T130124@https://riotheatre.ca?barker_action=event-listing-ic
 al&event_listing_id=52796
X-WR-CALNAME: Event Listings
BEGIN:VEVENT
UID:https://riotheatre.ca/barker_event_listing/52796/
DTSTART;TZID=America/Vancouver:20260917T190000
SEQUENCE:0
TRANSP:OPAQUE
DTEND;TZID=America/Vancouver:20260917T190000
URL:https://riotheatre.ca/event/katie-boyle/
SUMMARY:Katie Boyle
CLASS:PUBLIC
DESCRIPTION:The East Van Laugh RioT welcomes comedian Katie Boyle to the Ri
 o Theatre’s stage for a night of laughter on Thursday\, September 17. Th
 ursday\, September 17 Doors 6:00 pm | Show 7:00 pm *Start time subject to 
 change. Please arrive on time. Tickets on sale April 24…
DTSTAMP:20260422T200124Z
LAST-MODIFIED:20260421T152145Z
END:VEVENT
END:VCALENDAR