BEGIN:VCALENDAR
VERSION:2.0
PRODID:20260422T065953@https://riotheatre.ca?barker_action=event-listing-ic
 al&event_listing_id=52777
X-WR-CALNAME: Event Listings
BEGIN:VEVENT
UID:https://riotheatre.ca/barker_event_listing/52777/
DTSTART;TZID=America/Vancouver:20260502T153000
SEQUENCE:0
TRANSP:OPAQUE
DTEND;TZID=America/Vancouver:20260502T153000
URL:https://riotheatre.ca/movie/the-bearded-girl/
SUMMARY:The Bearded Girl (Filmmakers in Attendance for Q&A)
CLASS:PUBLIC
DESCRIPTION:On the brink of inheriting the position of The Bearded Woman (m
 atriarchal leader to an outcast community of circus performers)\, a young 
 woman defies her overbearing mother and runs away instead.  Free from the
  expectations and responsibilities at home\, she seeks romance and adventu
 re with the normies in…
DTSTAMP:20260422T135953Z
LAST-MODIFIED:20260417T124205Z
END:VEVENT
END:VCALENDAR