BEGIN:VCALENDAR
VERSION:2.0
PRODID:20260421T052043@https://riotheatre.ca?barker_action=event-listing-ic
 al&event_listing_id=52764
X-WR-CALNAME: Event Listings
BEGIN:VEVENT
UID:https://riotheatre.ca/barker_event_listing/52764/
DTSTART;TZID=America/Vancouver:20260508T213000
SEQUENCE:0
TRANSP:OPAQUE
DTEND;TZID=America/Vancouver:20260508T213000
URL:https://riotheatre.ca/event/paul-chowdhry/
SUMMARY:Paul Chowdhry AI: Artificial Indian
CLASS:PUBLIC
DESCRIPTION:Multi-award-winning stand-up comedian and one of the UK’s top
 -selling live acts\, Paul Chowdhry brings his latest show AI: Artificial I
 ndian to Vancouver for one night only on May 8\, 2026. Fresh off his sold-
 out 2025 UK arena tour Englandia\, Paul delivers his signature mix of bold
  cultural commentary\, observational humor\,…
DTSTAMP:20260421T122043Z
LAST-MODIFIED:20260417T185745Z
END:VEVENT
END:VCALENDAR