BEGIN:VCALENDAR
VERSION:2.0
PRODID:20260423T181144@https://riotheatre.ca?barker_action=event-listing-ic
 al&event_listing_id=52695
X-WR-CALNAME: Event Listings
BEGIN:VEVENT
UID:https://riotheatre.ca/barker_event_listing/52695/
DTSTART;TZID=America/Vancouver:20260426T123000
SEQUENCE:0
TRANSP:OPAQUE
DTEND;TZID=America/Vancouver:20260426T123000
URL:https://riotheatre.ca/movie/kikis-delivery-service/
SUMMARY:Kiki’s Delivery Service (2026 Restoration)
CLASS:PUBLIC
DESCRIPTION:KIKI’S DELIVERY SERVICE\, the timeless and beloved classic fr
 om Academy Award®-winning director Hayao Miyazaki and globally celebrated
  animation house Studio Ghibli is newly remastered in 4K for 2026. There i
 s no better way to appreciate the magic of Studio Ghibli than on the big s
 creen! Movie-lovers of all ages adore…
DTSTAMP:20260424T011144Z
LAST-MODIFIED:20260421T145559Z
END:VEVENT
END:VCALENDAR