BEGIN:VCALENDAR
VERSION:2.0
PRODID:20260422T210106@https://riotheatre.ca?barker_action=event-listing-ic
 al&event_listing_id=52681
X-WR-CALNAME: Event Listings
BEGIN:VEVENT
UID:https://riotheatre.ca/barker_event_listing/52681/
DTSTART;TZID=America/Vancouver:20260504T183000
SEQUENCE:0
TRANSP:OPAQUE
DTEND;TZID=America/Vancouver:20260504T183000
URL:https://riotheatre.ca/movie/star-wars/
SUMMARY:Star Wars: Episode IV – A New Hope
CLASS:PUBLIC
DESCRIPTION:“That’s no moon. It’s a space station.”  This May (the)
  Fourth\, join us at the Rio Theatre as we toast the holiest holiday among
  STAR WARS fans\, with a prime time viewing of  George Lucas‘ iconic 19
 77 film that started it all\, A NEW HOPE. Stick…
DTSTAMP:20260423T040106Z
LAST-MODIFIED:20260409T144206Z
END:VEVENT
END:VCALENDAR