BEGIN:VCALENDAR
VERSION:2.0
PRODID:20260422T070131@https://riotheatre.ca?barker_action=event-listing-ic
 al&event_listing_id=52653
X-WR-CALNAME: Event Listings
BEGIN:VEVENT
UID:https://riotheatre.ca/barker_event_listing/52653/
DTSTART;TZID=America/Vancouver:20260424T233000
SEQUENCE:0
TRANSP:OPAQUE
DTEND;TZID=America/Vancouver:20260424T233000
URL:https://riotheatre.ca/movie/slc-punk/
SUMMARY:SLC Punk!
CLASS:PUBLIC
DESCRIPTION:Two former geeks become 1980s punks\, then party and go to conc
 erts while deciding what to do with their lives. “[Matthew Lillard’s] 
 performance dominates the film\, and he does a subtle\, tricky job of bein
 g both an obnoxious punk and a kid in search of his direction in life. He
 ’s…
DTSTAMP:20260422T140131Z
LAST-MODIFIED:20260417T185320Z
END:VEVENT
END:VCALENDAR