BEGIN:VCALENDAR
VERSION:2.0
PRODID:20260422T071733@https://riotheatre.ca?barker_action=event-listing-ic
 al&event_listing_id=52369
X-WR-CALNAME: Event Listings
BEGIN:VEVENT
UID:https://riotheatre.ca/barker_event_listing/52369/
DTSTART;TZID=America/Vancouver:20260721T193000
SEQUENCE:0
TRANSP:OPAQUE
DTEND;TZID=America/Vancouver:20260721T193000
URL:https://riotheatre.ca/movie/hedwig-and-the-angry-movie-tour-w-john-came
 ron-mitchell/
SUMMARY:Hedwig And The Angry Inch: 25th Anniversary Movie Tour w/ John Came
 ron Mitchell
CLASS:PUBLIC
DESCRIPTION:Celebrate the 25th Anniversary of the critically acclaimed\, aw
 ard-winning rock movie musical “Hedwig and the Angry Inch” with an unf
 orgettable evening featuring writer\, director\, and Golden Globe–nomina
 ted star\, John Cameron Mitchell. The event includes a stunning 4K screeni
 ng of the film\, followed by a live Q&A\, and a special mini…
DTSTAMP:20260422T141733Z
LAST-MODIFIED:20260414T163956Z
END:VEVENT
END:VCALENDAR